BEGIN:VCALENDAR
VERSION:2.0
PRODID:-//Transformerz - ECPv6.2.2.1//NONSGML v1.0//EN
CALSCALE:GREGORIAN
METHOD:PUBLISH
X-ORIGINAL-URL:https://www.transformerz.org
X-WR-CALDESC:Events for Transformerz
REFRESH-INTERVAL;VALUE=DURATION:PT1H
X-Robots-Tag:noindex
X-PUBLISHED-TTL:PT1H
BEGIN:VTIMEZONE
TZID:UTC
BEGIN:STANDARD
TZOFFSETFROM:+0000
TZOFFSETTO:+0000
TZNAME:UTC
DTSTART:20240101T000000
END:STANDARD
END:VTIMEZONE
BEGIN:VEVENT
DTSTART;TZID=UTC:20240817T160000
DTEND;TZID=UTC:20240817T173000
DTSTAMP:20260425T160545
CREATED:20240603T194800Z
LAST-MODIFIED:20240603T195213Z
UID:1165-1723910400-1723915800@www.transformerz.org
SUMMARY:Fire School Zoom Meeting
DESCRIPTION:Tweens and teens!  Join our next Fire School Zoom meeting.  It is a place where you grow in your relationship with God and meet other like-minded tweens and teens.  Let us know if you just want to check out our school – we will gladly send you the zoom details.  Send Esme a message at admin@transformer.org or whattsapp at 087 095 2697 \nDownload this document for more info about our school:  http://www.transformerz.org/wp-content/uploads/2024/02/Fire-School-2024-info-for-adults.pdf \nSign up for our Fire School \nRegister here:  https://forms.gle/Beaa3zQpdZCyBaPaA \nApply for sponsorship here:  https://forms.gle/58Tpjq9NCV1DUqwF6 \nIs the Fire School for your tween(s) and/or teen(s)? \nTransformerz Fire School is a revival school. It is designed for any Christian tween or teen (ages 10 to 18) who desires a deeper and more intimate relationship with the Lord. It is also for those who seek to understand; and live out their God-given identity. \nOur Fire School is for tweens and teens who answer yes to one or more of these questions: \n\nAre you a Christian tween or teen?\nAre you 10 to 18 years of age?\nDoyou desire a deep and intimate relationship with the Lord?\nDo you want to know your God-given identity?\nDo you want to do signs\, miracles and wonders…like the Bible talks about?\nDo you want to learn more about the Bible?\n\nFoundations of our Fire School \nOur School is built on the following three foundations: \n\nDaring Freedom: The Transformerz Fire School dares tweens and teens to experience freedom. This freedom comes when they are set free from inner pain\, oppression\, burdens\, sin\, disease and so much more. At the Fire School they will experience the healing power of God and learn who they truly are in Christ.\nInnovation: Our tweens and teens are created in the image of God. God\, the Creator\, created them to create. To be innovative! To bring Heaven to earth! The Transformerz Fire School will encourage our tweens and teens to step into some of the irrevocable giftings and callings on their lives.\nBe transformed to transform: The Transformerz Fire School facilitates exciting opportunities where tweens/teens can be transformed by the all-consuming Love of God and the renewing of their mind. This school also equips them to do like Jesus did on earth\, (like pray for the sick and share a prophetic word) as they wisely transform their world by the Power of the Holy Spirit.\n\nOur Fire School Programme \nOur Fire School programme consist of the following: \n\nMonthly Zoom meetings\nMinistry Opportunities at Xplosions\nFaith Risk Challenges\nBible Studies\nFace-to-face meetings for Transformers in the Western Cape (Depending on the number of Transformerz that attend in your area\, we can organise such meetings for your Transformerz as well). Our Western Cape meetings are of course open to any tween and teen that attend the Fire School!\n\n\nZoom meetings\n\nWhen do we meet on zoom? \nZoom Meetings:  Monthly equipping meetings on zoom\, on Saturdays from 4:00 p.m. – 5:30 p.m. \n\n17 February 2024\n16 March 2024\n13 April 2024\n18 May 2024\n20 July 2024\n17 August 2024\n14 September 2024\n12 October 2024\n9 November 2024 (prayer for exams)\n\nWhat happens when we meet on zoom? \nWhen we meet on zoom (or sometimes in person)\, we focus on the following activities: \n\nFun: We endeavour to make our zoom session fun and interactive.  Our Transformerz even learn dance moves that we do together over zoom or in person!\nGod Encounter: We use worship and other activities that encourage tweens and teens to encounter God and to hear God’s voice for themselves\nSmall group meetings: We facilitate small group discussions so that our tweens and teens can share their journey with God\, discuss the Fire School teachings\, pray for each other and much more.\nPersonal ministry: Tweens and teens have the opportunity to receive personal ministry through various activities. These include prayer and prophetic ministry.\nTestimonies: Tweens and teens get the opportunity to share their victories and bravery!\nTeaching: Tweens and teens learn about various topics related to the Bible\nActivations: We facilitate activities where our Transformerz practise the skills and concepts that they learn during our meetings.\nBuilding community: We will encourage tweens and teens to get to know each other\, make new friends and to become a community who loves God with all their being!\n\n\nMinistry Opportunities at Xplosions: \n\nThe Fire School provide various kinds of practical ministry training for tweens and teens. They will get the kind of opportunities that adults only dream of\, like preaching in front of a big audience\, ministering at big crusades for tweens and teens (called Xplosions) and much more. Your tween(s) and/or teens(s) will be equipped to pray\, prophesy and so much more. This will enrich their relationship with God in unimaginable ways. \nThe dates and venues for Xplosions will be announced throughout the year. \n\nFaith Risk Challenges\n\nTweens and teens love to walk in the Power of God and to see signs\, miracles and wonders. At our Fire School we challenge our tweens and teens to heal the sick\, prophesy\, show compassion and to follow the leading of the Holy Spirit in their daily lives.  During our Fire School\, we give our tweens and teens specific challenges that will require them to be brave\, courageous and to step out in the Power of God.  These are called Faith Risk Challenges. \n\nBible Studies\n\nDuring the school year our tweens and teens will be encouraged to read and study their Bible. We are trusting God to give them an overwhelming love for His Word.  At Transformerz we develop Bible Studies for this purpose. \n\nTransformerz in the Western Cape\n\nTransformerz in the Western Cape will also meet face-to-face at Journey of Grace Church (44 Mabel Street\, Oakdale\, Bellville) on these dates: \n\n24 February 2024 (2:30 p.m. – 5:00 p.m.)\n20 April 2024 (2:30 p.m. – 5:00 p.m.)\n19 – 21 June (Transformerz Holiday Club – There will be an additional cost to attend this Club)\n28 September 2024 (Transformerz Encounter Day from 9:00 a.m – 4 p.m.)\n30 November 2024\n\nNote:  Depending on the number of Transformerz attending Fire School in your Province\, we will also arrange face-to-face meetings for them \nGather tweens and teens in a home\, at church or a community hall \nWe highly encourage  that you gather a group of tweens and teens to do our Fire School in one venue.  Examples of a venue can be:  A church\, a house\, a community building \,etc. \nHub Leader Training \nAt our Fire School we call leaders who do Fire School with a group of tweens and teens\, a hub leader.  We provide our hub leaders with continual training.  This includes: \n\nhow to set up a device or multiple devices so that your group can participate in the zoom meeting.\nHow to facilitate your group before\, during and after the zoom meeting\n\nHelp with data \nTransformerz can also assist you with data for the zoom session\, if you have a MTN sim card and have access to the downloaded MTN app on a smart phone. \nBenefits of doing Fire School with a group of tweens and teens \nAttending the Fire School as a group will be very beneficial to your ministry. Here are some of the benefits you will observe during the course of the school year: \n\nIgnited with Passion: Your tweens and teens will be ignited with a new passion for God and they will develop a strong desire to lay down their lives for Him.\nA global move of God: Our Fire School is international. Your tweens and teens will understand that they are part of a bigger move of God and this will make them very excited. It will also enlarge their world and view of their personal future.\nMake new friends: Tweens and teens that attend our Fire School come from different cities\, cultures and communities. Transformerz Fire School is a place where they will meet like-minded Christians.\nEquipping for ministry: The Fire School provide various kinds of practical ministry training and challenges for tweens and teens. This will show you how you can facilitate opportunities with your tweens and teens to expand the Kingdom of God in your town and city\nMake an impact: Fire School provide several opportunities where you can meet with your tweens and teens.  These meetings will grow your relationship with your tweens and teens as you get to know their personalities\, giftings and struggles!  You will also be able to pray for them\, mentor them and make a deep and lasting Godly impact in their lives…the kind of impact that will change their life!\n\nOur Curriculum \nOur curriculum is built around the following concepts: \n\nIntimacy: Tweens and teens will learn about the power of their personal relationship with God and how spiritual practices can build and strengthen that relationship\nPersonal transformation: Tweens and teens will learn about their identity as sons and daughters of God\, experience God’s Healing Power (both internally and externally) and examine how to cultivate an abundant inner life experience.\nBring heaven to earth: Tweens and teens will learn how to cultivate their giftings and practices such as healing\, prophecy\, evangelism\, intercession/prayer and deliverance.\nBiblical Study: Tweens and teens will gain a basic theological understanding of the Bible\, the Trinity and how to do regular Bible Study.\n\nCost of the Fire School \nThe cost to attend Fire School is R250 per Transformer.  The price includes:  T-shirt\, Bible Studies\, refreshments for in-person events\, and much much more! \nYou can make this payment via EFT or online using our website.  If you need sponsorships for some of your Transformerz\, please complete the online application form for this. \nEFT payment can be made into this account: \nName: TRANFOMERZKIDS NPC\, Bank: FNB \nAccount Type: BUSINESS ACCOUNT \nAccount Number: 62822051801 \nBranch Code: 255355 \nBranch Name: MY BRANCH \nSwift Code: FIRNZAJJ \nHow to apply for Fire School? \nStep 1 (Optional):  Send us a message to indicate that you are interested in our Fire School.  We will then send you the zoom link for the next meeting.  You are welcome to attend this meeting to check out what our Fire School is all about.  You are also welcome to book an online or in-person meeting with a member of our Core Team to discuss the Fire School in more detail! \nStep 2:  Complete the Application form using the link below \nStep 3:  Make payment for the Fire School.  The cost is R250 per tween or teen.   You can make this payment via EFT or online using our website.  Our banking details are: \nName: TRANFOMERZKIDS NPC\, Bank: FNB \nAccount Type: BUSINESS ACCOUNT \nAccount Number: 62822051801 \nBranch Code: 255355 \nBranch Name: MY BRANCH \nSwift Code: FIRNZAJJ \nStep 4:  If you need sponsorship for one of more of your Transformerz\, then complete this sponsorship form.  We will resond to your request as soon as possible! \n 
URL:https://www.transformerz.org/event/fire-school-zoom-meeting/
LOCATION:Zoom
ATTACH;FMTTYPE=image/jpeg:https://www.transformerz.org/wp-content/uploads/2024/06/3.jpg
END:VEVENT
END:VCALENDAR