BEGIN:VCALENDAR
VERSION:2.0
PRODID:-//Transformerz - ECPv6.2.2.1//NONSGML v1.0//EN
CALSCALE:GREGORIAN
METHOD:PUBLISH
X-ORIGINAL-URL:https://www.transformerz.org
X-WR-CALDESC:Events for Transformerz
REFRESH-INTERVAL;VALUE=DURATION:PT1H
X-Robots-Tag:noindex
X-PUBLISHED-TTL:PT1H
BEGIN:VTIMEZONE
TZID:UTC
BEGIN:STANDARD
TZOFFSETFROM:+0000
TZOFFSETTO:+0000
TZNAME:UTC
DTSTART:20230101T000000
END:STANDARD
END:VTIMEZONE
BEGIN:VEVENT
DTSTART;TZID=UTC:20231014T140000
DTEND;TZID=UTC:20231014T170000
DTSTAMP:20260423T144907
CREATED:20230930T091349Z
LAST-MODIFIED:20230930T092422Z
UID:819-1697292000-1697302800@www.transformerz.org
SUMMARY:Fire School Onsite
DESCRIPTION:Our last Fire School event for 2023 is on 14 October 2023.  Come and meet other tweens and teens your age who desire a deeper and more intimate relationship with the Lord.  Our school is a 9-month revival school and we meet 6 times a year.  If you come and visit us on Saturday\, we will chat more with you about our Fire School in 2024!
URL:https://www.transformerz.org/event/fireschool-onsite/
LOCATION:Journey Of Grace\, 44 Mabel Street\, Oakdale\, Western Province\, 7530\, South Africa
CATEGORIES:Fire School Onsite
END:VEVENT
END:VCALENDAR